BEGIN:VCALENDAR
VERSION:2.0
PRODID:-//Squarespace Inc/Squarespace 6//v6//EN
BEGIN:VEVENT
UID:59c2f819b1ffb60cf88b63b9@squarespace.com
DTSTAMP:20170920T232302Z
DTSTART:20171101T213000Z
DTEND:20171102T013000Z
SUMMARY:Dolton House - TRIO
END:VEVENT
END:VCALENDAR
