BEGIN:VCALENDAR
VERSION:2.0
PRODID:-//Squarespace Inc/Squarespace 6//v6//EN
BEGIN:VEVENT
UID:59c2f88732601ee9b8981c58@squarespace.com
DTSTAMP:20170920T232518Z
DTSTART:20171123T230000Z
DTEND:20171124T020000Z
SUMMARY:David Jones Christmas Store Event - DUO
END:VEVENT
END:VCALENDAR
