BEGIN:VCALENDAR
VERSION:2.0
PRODID:-//Squarespace Inc/Squarespace 6//v6//EN
BEGIN:VEVENT
UID:59c2f8ec268b960e4b67f36c@squarespace.com
DTSTAMP:20170920T232625Z
DTSTART:20171126T220000Z
DTEND:20171127T020000Z
SUMMARY:Maritime Museum - Private Function - TRIO
END:VEVENT
END:VCALENDAR
