BEGIN:VCALENDAR
VERSION:2.0
PRODID:-//Squarespace Inc/Squarespace 6//v6//EN
BEGIN:VEVENT
UID:59aceb1a893fc0f529d5dc1b@squarespace.com
DTSTAMP:20170904T055818Z
DTSTART:20171214T230000Z
DTEND:20171215T020000Z
SUMMARY:James Craig - Christmas Party
END:VEVENT
END:VCALENDAR
