BEGIN:VCALENDAR
VERSION:2.0
PRODID:-//Squarespace Inc/Squarespace 6//v6//EN
BEGIN:VEVENT
UID:59c2f960ccc5c5057f09e1f3@squarespace.com
DTSTAMP:20170920T232852Z
DTSTART:20171217T000000Z
DTEND:20171217T045900Z
SUMMARY:The Establishment Hotel - Venus 6 piece
END:VEVENT
END:VCALENDAR
