BEGIN:VCALENDAR
VERSION:2.0
PRODID:-//Squarespace Inc/Squarespace 6//v6//EN
BEGIN:VEVENT
UID:58a831b6b8a79b717849c707@squarespace.com
DTSTAMP:20170218T114951Z
DTSTART:20170226T000000Z
DTEND:20170226T040000Z
SUMMARY:Private Function - TRIO
GEO:-33.856784;151.215297
LOCATION:Sydney opera house
END:VEVENT
END:VCALENDAR
