BEGIN:VCALENDAR
VERSION:2.0
PRODID:-//Squarespace Inc/Squarespace 6//v6//EN
BEGIN:VEVENT
UID:58d47c941b631bcd655eb653@squarespace.com
DTSTAMP:20170324T030734Z
DTSTART:20170326T203000Z
DTEND:20170326T233000Z
SUMMARY:Public Gig - TRIO
GEO:-33.731953;151.301518
LOCATION:The Beach Club\, 1058 Pittwater Road\, Collaroy\, NSW\, 2097\, Aus
 tralia
END:VEVENT
END:VCALENDAR
