BEGIN:VCALENDAR
VERSION:2.0
PRODID:-//Squarespace Inc/Squarespace 6//v6//EN
BEGIN:VEVENT
UID:58a834948419c2e78d684656@squarespace.com
DTSTAMP:20170324T031142Z
DTSTART:20170305T000000Z
DTEND:20170305T040000Z
SUMMARY:Private Function - TRIO
END:VEVENT
END:VCALENDAR
