BEGIN:VCALENDAR
VERSION:2.0
PRODID:-//Squarespace Inc/Squarespace 6//v6//EN
BEGIN:VEVENT
UID:58df71e71b10e31ed44e3370@squarespace.com
DTSTAMP:20170401T092814Z
DTSTART:20170415T233000Z
DTEND:20170416T033000Z
SUMMARY:Private Function - TRIO
GEO:40.720756;-74.000761
LOCATION:Sydney
END:VEVENT
END:VCALENDAR
