BEGIN:VCALENDAR
VERSION:2.0
PRODID:-//Squarespace Inc/Squarespace 6//v6//EN
BEGIN:VEVENT
UID:58d47dd3bf629a6b1de249aa@squarespace.com
DTSTAMP:20170324T031344Z
DTSTART:20170401T233000Z
DTEND:20170402T033000Z
SUMMARY:Private Function - TRIO
END:VEVENT
END:VCALENDAR
