BEGIN:VCALENDAR
VERSION:2.0
PRODID:-//Squarespace Inc/Squarespace 6//v6//EN
BEGIN:VEVENT
UID:58d47f3fb8a79b27eb3aecf0@squarespace.com
DTSTAMP:20170324T030954Z
DTSTART:20170421T233000Z
DTEND:20170422T033000Z
SUMMARY:Private Function - TRIO
GEO:-30.332406;149.78124
LOCATION:Narrabri\, NSW\, 2390\, Australia
END:VEVENT
END:VCALENDAR
