BEGIN:VCALENDAR
VERSION:2.0
PRODID:-//Squarespace Inc/Squarespace 6//v6//EN
BEGIN:VEVENT
UID:58d47f89e6f2e19c40baf704@squarespace.com
DTSTAMP:20170324T031005Z
DTSTART:20170422T233000Z
DTEND:20170423T033000Z
SUMMARY:Private Function - TRIO
END:VEVENT
END:VCALENDAR
