BEGIN:VCALENDAR
VERSION:2.0
PRODID:-//Squarespace Inc/Squarespace 6//v6//EN
BEGIN:VEVENT
UID:58d47fbfd482e9f5960aded9@squarespace.com
DTSTAMP:20170324T031017Z
DTSTART:20170425T193000Z
DTEND:20170425T233000Z
SUMMARY:Anzac Day Function - ON HOLD
GEO:-32.83451;151.362427
LOCATION:Cessnock racecourse\, cessnock NSW
END:VEVENT
END:VCALENDAR
