BEGIN:VCALENDAR
VERSION:2.0
PRODID:-//Squarespace Inc/Squarespace 6//v6//EN
BEGIN:VEVENT
UID:58d4803920099e1b0379bb0c@squarespace.com
DTSTAMP:20170324T031026Z
DTSTART:20170428T233000Z
DTEND:20170429T033000Z
SUMMARY:Private Function - TRIO
END:VEVENT
END:VCALENDAR
