BEGIN:VCALENDAR
VERSION:2.0
PRODID:-//Squarespace Inc/Squarespace 6//v6//EN
BEGIN:VEVENT
UID:58d4805c2994cafbe9ee269a@squarespace.com
DTSTAMP:20170324T031057Z
DTSTART:20170429T233000Z
DTEND:20170430T033000Z
SUMMARY:Private Function - TRIO - ON HOLD
END:VEVENT
END:VCALENDAR
