BEGIN:VCALENDAR
VERSION:2.0
PRODID:-//Squarespace Inc/Squarespace 6//v6//EN
BEGIN:VEVENT
UID:58d47e1e5016e1bc2263bd93@squarespace.com
DTSTAMP:20170324T031355Z
DTSTART:20170402T233000Z
DTEND:20170403T033000Z
SUMMARY:Private Function - TRIO
END:VEVENT
END:VCALENDAR
