BEGIN:VCALENDAR
VERSION:2.0
PRODID:-//Squarespace Inc/Squarespace 6//v6//EN
BEGIN:VEVENT
UID:58d47e64d1758ef171fcf637@squarespace.com
DTSTAMP:20170324T030907Z
DTSTART:20170407T233000Z
DTEND:20170408T033000Z
SUMMARY:Private Function - 5 PIECE
GEO:-33.873157;151.206116
LOCATION:Sydney Town Hall
END:VEVENT
END:VCALENDAR
