BEGIN:VCALENDAR
VERSION:2.0
PRODID:-//Squarespace Inc/Squarespace 6//v6//EN
BEGIN:VEVENT
UID:58d47eec37c581845700c8af@squarespace.com
DTSTAMP:20170324T030933Z
DTSTART:20170408T233000Z
DTEND:20170409T033000Z
SUMMARY:Private Function - TRIO
END:VEVENT
END:VCALENDAR
