BEGIN:VCALENDAR
VERSION:2.0
PRODID:-//Squarespace Inc/Squarespace 6//v6//EN
BEGIN:VEVENT
UID:58d480c7b8a79b27eb3b0117@squarespace.com
DTSTAMP:20170405T115106Z
DTSTART:20170513T233000Z
DTEND:20170514T033000Z
SUMMARY:Private Function - TRIO
END:VEVENT
END:VCALENDAR
