BEGIN:VCALENDAR
VERSION:2.0
PRODID:-//Squarespace Inc/Squarespace 6//v6//EN
BEGIN:VEVENT
UID:58d480a029687f49a5c7148d@squarespace.com
DTSTAMP:20170324T031115Z
DTSTART:20170506T233000Z
DTEND:20170507T033000Z
SUMMARY:Private Function - TRIO
END:VEVENT
END:VCALENDAR
