BEGIN:VCALENDAR
VERSION:2.0
PRODID:-//Squarespace Inc/Squarespace 6//v6//EN
BEGIN:VEVENT
UID:592246e4b3db2b421d52737f@squarespace.com
DTSTAMP:20170522T020901Z
DTSTART:20170616T223000Z
DTEND:20170617T033000Z
SUMMARY:Fighting Chance Charity Ball
END:VEVENT
END:VCALENDAR
