BEGIN:VCALENDAR
VERSION:2.0
PRODID:-//Squarespace Inc/Squarespace 6//v6//EN
BEGIN:VEVENT
UID:592247db46c3c4fc5e93920e@squarespace.com
DTSTAMP:20170522T020823Z
DTSTART:20170617T220000Z
DTEND:20170618T033000Z
SUMMARY:Private Function TRIO
END:VEVENT
END:VCALENDAR
