BEGIN:VCALENDAR
VERSION:2.0
PRODID:-//Squarespace Inc/Squarespace 6//v6//EN
BEGIN:VEVENT
UID:59224864bebafbcb1248458c@squarespace.com
DTSTAMP:20170522T021014Z
DTSTART:20170624T223000Z
DTEND:20170625T033000Z
SUMMARY:Private Function ON HOLD
END:VEVENT
END:VCALENDAR
