BEGIN:VCALENDAR
VERSION:2.0
PRODID:-//Squarespace Inc/Squarespace 6//v6//EN
BEGIN:VEVENT
UID:58d4810586e6c04becf56608@squarespace.com
DTSTAMP:20170522T020232Z
DTSTART:20170603T233000Z
DTEND:20170604T033000Z
SUMMARY:Private Function ON HOLD - TRIO
GEO:-33.680791;151.306951
LOCATION:Mona Vale Golf Club
END:VEVENT
END:VCALENDAR
