BEGIN:VCALENDAR
VERSION:2.0
PRODID:-//Squarespace Inc/Squarespace 6//v6//EN
BEGIN:VEVENT
UID:5951c3b3ff7c50d8ca22da8c@squarespace.com
DTSTAMP:20170627T023413Z
DTSTART:20170719T000000Z
DTEND:20170719T030000Z
SUMMARY:Bellevue Hotel - Sydney - TRIO
END:VEVENT
END:VCALENDAR
