BEGIN:VCALENDAR
VERSION:2.0
PRODID:-//Squarespace Inc/Squarespace 6//v6//EN
BEGIN:VEVENT
UID:5951c46a2994ca4879056903@squarespace.com
DTSTAMP:20170627T023609Z
DTSTART:20170831T220000Z
DTEND:20170901T030000Z
SUMMARY:Dolton House\, Sydney Venus 6 piece
END:VEVENT
END:VCALENDAR
