BEGIN:VCALENDAR
VERSION:2.0
PRODID:-//Squarespace Inc/Squarespace 6//v6//EN
BEGIN:VEVENT
UID:5951c6e12cba5e163e52b317@squarespace.com
DTSTAMP:20170920T231856Z
DTSTART:20170925T220000Z
DTEND:20170925T230000Z
SUMMARY:Venus 4 piece - Cockatoo Island
END:VEVENT
END:VCALENDAR
