BEGIN:VCALENDAR
VERSION:2.0
PRODID:-//Squarespace Inc/Squarespace 6//v6//EN
BEGIN:VEVENT
UID:5951c66037c581c39817683e@squarespace.com
DTSTAMP:20170627T024448Z
DTSTART:20170924T220000Z
DTEND:20170925T033000Z
SUMMARY:Private Function Venus 6 piece - Grounds of Alexandria
END:VEVENT
END:VCALENDAR
