BEGIN:VCALENDAR
VERSION:2.0
PRODID:-//Squarespace Inc/Squarespace 6//v6//EN
BEGIN:VEVENT
UID:5951d1afbf629a17a5bd28ec@squarespace.com
DTSTAMP:20170912T034417Z
DTSTART:20171202T230000Z
DTEND:20171203T040000Z
SUMMARY:Venus Trio - Q station\, Manly
END:VEVENT
END:VCALENDAR
