BEGIN:VCALENDAR
VERSION:2.0
PRODID:-//Squarespace Inc/Squarespace 6//v6//EN
BEGIN:VEVENT
UID:5951d1641b631b5a5712170c@squarespace.com
DTSTAMP:20171024T014623Z
DTSTART:20171209T230000Z
DTEND:20171210T043000Z
SUMMARY:Venus 6 piece - Crowne Plaza - Hunter Valley
END:VEVENT
END:VCALENDAR
