BEGIN:VCALENDAR
VERSION:2.0
PRODID:-//Squarespace Inc/Squarespace 6//v6//EN
BEGIN:VEVENT
UID:5951d1e972af6579b89956c0@squarespace.com
DTSTAMP:20170627T033345Z
DTSTART:20171231T230000Z
DTEND:20180101T040000Z
SUMMARY:Venus TRIO - James Craig Tall Ship
END:VEVENT
END:VCALENDAR
