BEGIN:VCALENDAR
VERSION:2.0
PRODID:-//Squarespace Inc/Squarespace 6//v6//EN
BEGIN:VEVENT
UID:5951d0deccf210222f4b0b42@squarespace.com
DTSTAMP:20170627T032939Z
DTSTART:20171215T180000Z
DTEND:20171215T230000Z
SUMMARY:Venus TRIO - Hilton Hotel\, Zeta Bar
END:VEVENT
END:VCALENDAR
