BEGIN:VCALENDAR
VERSION:2.0
PRODID:-//Squarespace Inc/Squarespace 6//v6//EN
BEGIN:VEVENT
UID:5951d0a4893fc08055f32569@squarespace.com
DTSTAMP:20170627T032805Z
DTSTART:20171208T230000Z
DTEND:20171209T040000Z
SUMMARY:Venus TRIO - Iguanas Coast Bar\, Gosford
END:VEVENT
END:VCALENDAR
