BEGIN:VCALENDAR
VERSION:2.0
PRODID:-//Squarespace Inc/Squarespace 6//v6//EN
BEGIN:VEVENT
UID:5951d007cd0f68a88e5ac6ce@squarespace.com
DTSTAMP:20170627T032558Z
DTSTART:20171125T230000Z
DTEND:20171126T040000Z
SUMMARY:Venus TRIO - Kooindah Waters\, Wyong
END:VEVENT
END:VCALENDAR
