BEGIN:VCALENDAR
VERSION:2.0
PRODID:-//Squarespace Inc/Squarespace 6//v6//EN
BEGIN:VEVENT
UID:5951cfdc46c3c44a01a33f31@squarespace.com
DTSTAMP:20170627T032441Z
DTSTART:20171118T230000Z
DTEND:20171119T040000Z
SUMMARY:Venus TRIO - Newcastle Town Hall
END:VEVENT
END:VCALENDAR
