BEGIN:VCALENDAR
VERSION:2.0
PRODID:-//Squarespace Inc/Squarespace 6//v6//EN
BEGIN:VEVENT
UID:5951cce0bebafb07c9d3dcb5@squarespace.com
DTSTAMP:20170627T032137Z
DTSTART:20171104T220000Z
DTEND:20171105T030000Z
SUMMARY:Venus TRIO - Gosford Sailing Club
END:VEVENT
END:VCALENDAR
