BEGIN:VCALENDAR
VERSION:2.0
PRODID:-//Squarespace Inc/Squarespace 6//v6//EN
BEGIN:VEVENT
UID:5951cc91e58c62d7ca2156b9@squarespace.com
DTSTAMP:20170627T031104Z
DTSTART:20171103T220000Z
DTEND:20171104T020000Z
SUMMARY:Venus DUO - Royal Motor Yacht Club
END:VEVENT
END:VCALENDAR
