BEGIN:VCALENDAR
VERSION:2.0
PRODID:-//Squarespace Inc/Squarespace 6//v6//EN
BEGIN:VEVENT
UID:5951cc5ccd0f68a88e5aa1ef@squarespace.com
DTSTAMP:20170627T030942Z
DTSTART:20171028T220000Z
DTEND:20171029T030000Z
SUMMARY:Venus TRIO - Caves Beach
END:VEVENT
END:VCALENDAR
