BEGIN:VCALENDAR
VERSION:2.0
PRODID:-//Squarespace Inc/Squarespace 6//v6//EN
BEGIN:VEVENT
UID:5951cf71ebbd1ae9dcd59468@squarespace.com
DTSTAMP:20170627T032350Z
DTSTART:20171117T230000Z
DTEND:20171118T040000Z
SUMMARY:Venus 6 piece - Four Seasons Hotel
END:VEVENT
END:VCALENDAR
