BEGIN:VCALENDAR
VERSION:2.0
PRODID:-//Squarespace Inc/Squarespace 6//v6//EN
BEGIN:VEVENT
UID:5951caaa8419c28caf63c339@squarespace.com
DTSTAMP:20170627T030253Z
DTSTART:20171020T220000Z
DTEND:20171021T030000Z
SUMMARY:Venus 6 piece - Wollongong Entertainment Centre
END:VEVENT
END:VCALENDAR
