BEGIN:VCALENDAR
VERSION:2.0
PRODID:-//Squarespace Inc/Squarespace 6//v6//EN
BEGIN:VEVENT
UID:5993ed3659cc68ac67ec5c92@squarespace.com
DTSTAMP:20171003T050224Z
DTSTART:20171019T220000Z
DTEND:20171020T030000Z
SUMMARY:Venus 4 piece - Doltone House - Jones Bay Wharf
END:VEVENT
END:VCALENDAR
