BEGIN:VCALENDAR
VERSION:2.0
PRODID:-//Squarespace Inc/Squarespace 6//v6//EN
BEGIN:VEVENT
UID:5951c900bf629a17a5bccc4d@squarespace.com
DTSTAMP:20170914T102155Z
DTSTART:20171015T170000Z
DTEND:20171015T210000Z
SUMMARY:Venus TRIO - Mona Vale Golf Club
END:VEVENT
END:VCALENDAR
