BEGIN:VCALENDAR
VERSION:2.0
PRODID:-//Squarespace Inc/Squarespace 6//v6//EN
BEGIN:VEVENT
UID:59d317d76f4ca3fea1df209b@squarespace.com
DTSTAMP:20171003T050137Z
DTSTART:20171014T000000Z
DTEND:20171014T034500Z
SUMMARY:Venus 6 piece - Westpac Rescue Ball - Dolton House
END:VEVENT
END:VCALENDAR
