BEGIN:VCALENDAR
VERSION:2.0
PRODID:-//Squarespace Inc/Squarespace 6//v6//EN
BEGIN:VEVENT
UID:5951c842e4fcb5c94e460477@squarespace.com
DTSTAMP:20170627T025350Z
DTSTART:20171014T220000Z
DTEND:20171015T030000Z
SUMMARY:Venus 6 piece - Mona Vale Golf Club
END:VEVENT
END:VCALENDAR
