BEGIN:VCALENDAR
VERSION:2.0
PRODID:-//Squarespace Inc/Squarespace 6//v6//EN
BEGIN:VEVENT
UID:5951c7f778d171b905993c36@squarespace.com
DTSTAMP:20170912T034202Z
DTSTART:20171009T000000Z
DTEND:20171009T030000Z
SUMMARY:Private Function TRIO - Luna Park
END:VEVENT
END:VCALENDAR
