BEGIN:VCALENDAR
VERSION:2.0
PRODID:-//Squarespace Inc/Squarespace 6//v6//EN
BEGIN:VEVENT
UID:5951c74859cc689394d60e05@squarespace.com
DTSTAMP:20170627T024832Z
DTSTART:20171007T220000Z
DTEND:20171008T030000Z
SUMMARY:Private Function TRIO - Mudgee
END:VEVENT
END:VCALENDAR
