BEGIN:VCALENDAR
VERSION:2.0
PRODID:-//Squarespace Inc/Squarespace 6//v6//EN
BEGIN:VEVENT
UID:5951c540b6ac5001f34fc1ae@squarespace.com
DTSTAMP:20170627T024237Z
DTSTART:20170918T220000Z
DTEND:20170919T030000Z
SUMMARY:Private Function TRIO - Luna Park
END:VEVENT
END:VCALENDAR
