BEGIN:VCALENDAR
VERSION:2.0
PRODID:-//Squarespace Inc/Squarespace 6//v6//EN
BEGIN:VEVENT
UID:5951c4d41e5b6cb1b7ecf6be@squarespace.com
DTSTAMP:20170627T024311Z
DTSTART:20170916T220000Z
DTEND:20170917T033000Z
SUMMARY:Private Function TRIO - Qurindai NSW
END:VEVENT
END:VCALENDAR
