BEGIN:VCALENDAR
VERSION:2.0
PRODID:-//Squarespace Inc/Squarespace 6//v6//EN
BEGIN:VEVENT
UID:58d4918b579fb37460841b12@squarespace.com
DTSTAMP:20170324T032621Z
DTSTART:20170720T163000Z
DTEND:20170720T173000Z
SUMMARY:Thredbo Lounge Bar - DUO
GEO:-36.501296;148.310377
LOCATION:Thredbo Lounge Bar\, Thredbo
END:VEVENT
END:VCALENDAR
