BEGIN:VCALENDAR
VERSION:2.0
PRODID:-//Squarespace Inc/Squarespace 6//v6//EN
BEGIN:VEVENT
UID:58d492071b631bcd655fa8a1@squarespace.com
DTSTAMP:20170324T032855Z
DTSTART:20170721T163000Z
DTEND:20170721T173000Z
SUMMARY:Thredbo Lounge Bar - DUO
GEO:-36.504558;148.304878
LOCATION:Thredbo Lounge Bar\, Thredbo
END:VEVENT
END:VCALENDAR
